BEGIN:VCALENDAR
VERSION:2.0
PRODID:-//Agenda 21 Ottobrunn-Neubiberg - ECPv6.15.20//NONSGML v1.0//EN
CALSCALE:GREGORIAN
METHOD:PUBLISH
X-ORIGINAL-URL:https://agenda21-ottobrunn-neubiberg.de
X-WR-CALDESC:Veranstaltungen für Agenda 21 Ottobrunn-Neubiberg
REFRESH-INTERVAL;VALUE=DURATION:PT1H
X-Robots-Tag:noindex
X-PUBLISHED-TTL:PT1H
BEGIN:VTIMEZONE
TZID:Europe/Berlin
BEGIN:DAYLIGHT
TZOFFSETFROM:+0100
TZOFFSETTO:+0200
TZNAME:CEST
DTSTART:20250330T010000
END:DAYLIGHT
BEGIN:STANDARD
TZOFFSETFROM:+0200
TZOFFSETTO:+0100
TZNAME:CET
DTSTART:20251026T010000
END:STANDARD
BEGIN:DAYLIGHT
TZOFFSETFROM:+0100
TZOFFSETTO:+0200
TZNAME:CEST
DTSTART:20260329T010000
END:DAYLIGHT
BEGIN:STANDARD
TZOFFSETFROM:+0200
TZOFFSETTO:+0100
TZNAME:CET
DTSTART:20261025T010000
END:STANDARD
BEGIN:DAYLIGHT
TZOFFSETFROM:+0100
TZOFFSETTO:+0200
TZNAME:CEST
DTSTART:20270328T010000
END:DAYLIGHT
BEGIN:STANDARD
TZOFFSETFROM:+0200
TZOFFSETTO:+0100
TZNAME:CET
DTSTART:20271031T010000
END:STANDARD
END:VTIMEZONE
BEGIN:VEVENT
DTSTART;TZID=Europe/Berlin:20260507T180000
DTEND;TZID=Europe/Berlin:20260507T200000
DTSTAMP:20260424T165823
CREATED:20260423T185345Z
LAST-MODIFIED:20260423T185345Z
UID:554-1778176800-1778184000@agenda21-ottobrunn-neubiberg.de
SUMMARY:Info-Abend: Strom vom Balkon
DESCRIPTION:Mit einer Balkonsolaranlage können auch Nicht-Eigenheimbesitzer zur Energiewende beitragen und vom selbst produzierten Strom profitieren. Und das einfach und unkompliziert – einfach nur den Stecker in die Steckdose stecken. \nDer Landkreis München organisiert im Zeitraum April – Juni 2026 eine Sammelbestellung für Balkon-/Stecker-Solaranlagen. Bei einer Informationsveranstaltung können Sie sich persönlich informieren und alle Fragen klären. \nSelbstmontage oder Installation durch Fachfirma\nAls Partner konnte die Firma Solardet gewonnen werden. Die Firma bietet hochwertige Glas-Glas PV-Module mit 30 Jahren Garantie und Komponenten von namhaften Herstellern aus Europa. \nBei Bedarf wird die Anlage bei Ihnen zu Hause fachgerecht\, sicher und schnell montiert. Zusätzlich übernimmt die Firma die Anmeldung der Anlage im Marktstammdatenregister. So wird Solarenergie für jeden einfach zugänglich\, damit saubere Energie erzeugt und der CO2-Fußabdruck reduziert werden kann. \nBei Selbstmontage erhalten Sie bei dieser Aktion einen Rabatt von 12 % auf die Balkonkraftwerk-Sets oder Einzelkomponenten und sparen zusätzlich rund 60 € Versandkosten. \nWenn Sie die Anlage durch die Fachfirma installieren lassen\, erhalten Sie 20 % Rabatt auf den Gesamtpreis. \nTermine und Abholung\n\nInformationsabend am 07.05.2026 von 18-20 Uhr im Landratsamt München (Messe-Campus)\, Joseph-Wild-Str. 20\, 81829 München\, EG (Eingang befindet sich an der Nordseite des Gebäudes); Anmeldung per E-Mail wird erbeten an: 29plusplus@lra-m.bayern.de\nBestellschluss: 17.05.2026\nAktionscode: BALKONSTROM2026\nAbholtermin: Samstag\, 13.06.2026 von 10-13 Uhr\nAbholorte: Wertstoffhof\, Keferloher Str. 1\, 85540 Haar ODER Baubetriebshof\, Grünwalder Weg 16\, 82008 Unterhaching
URL:https://agenda21-ottobrunn-neubiberg.de/event/info-abend-strom-vom-balkon/
LOCATION:Online\, Germany
CATEGORIES:Empfehlung externe Veranstaltung
END:VEVENT
END:VCALENDAR