BEGIN:VCALENDAR
VERSION:2.0
PRODID:-//Agenda 21 Ottobrunn-Neubiberg - ECPv6.15.20//NONSGML v1.0//EN
CALSCALE:GREGORIAN
METHOD:PUBLISH
X-ORIGINAL-URL:https://agenda21-ottobrunn-neubiberg.de
X-WR-CALDESC:Veranstaltungen für Agenda 21 Ottobrunn-Neubiberg
REFRESH-INTERVAL;VALUE=DURATION:PT1H
X-Robots-Tag:noindex
X-PUBLISHED-TTL:PT1H
BEGIN:VTIMEZONE
TZID:Europe/Berlin
BEGIN:DAYLIGHT
TZOFFSETFROM:+0100
TZOFFSETTO:+0200
TZNAME:CEST
DTSTART:20250330T010000
END:DAYLIGHT
BEGIN:STANDARD
TZOFFSETFROM:+0200
TZOFFSETTO:+0100
TZNAME:CET
DTSTART:20251026T010000
END:STANDARD
BEGIN:DAYLIGHT
TZOFFSETFROM:+0100
TZOFFSETTO:+0200
TZNAME:CEST
DTSTART:20260329T010000
END:DAYLIGHT
BEGIN:STANDARD
TZOFFSETFROM:+0200
TZOFFSETTO:+0100
TZNAME:CET
DTSTART:20261025T010000
END:STANDARD
BEGIN:DAYLIGHT
TZOFFSETFROM:+0100
TZOFFSETTO:+0200
TZNAME:CEST
DTSTART:20270328T010000
END:DAYLIGHT
BEGIN:STANDARD
TZOFFSETFROM:+0200
TZOFFSETTO:+0100
TZNAME:CET
DTSTART:20271031T010000
END:STANDARD
END:VTIMEZONE
BEGIN:VEVENT
DTSTART;TZID=Europe/Berlin:20260422T183000
DTEND;TZID=Europe/Berlin:20260422T210000
DTSTAMP:20260420T043759
CREATED:20260315T143714Z
LAST-MODIFIED:20260315T151339Z
UID:113-1776882600-1776891600@agenda21-ottobrunn-neubiberg.de
SUMMARY:April-Stammtisch Energie & Klima
DESCRIPTION:Am Mittwoch\, den 22.04.2026 findet ab 18.30 Uhr der nächste Energie-Stammtisch statt. Treffpunkt ist im Bistro Quo Vadis\, Ortsmitte von Ottobrunn. \nWir tauschen uns aus zu Themen wie: Wärmewende zu Hause gestalten\, Nutzung von Sonnenenergie\, Energieeffizientes Wohnen\, Elektromobilität\, Förderprogramme in der Gemeinde\, Infos zum Stand der kommunalen Wärmeplanung u.v.m. Sie haben Fragen\, suchen Hilfe oder möchten Ihre Erfahrungen teilen und anderen Nachbarn helfen? Klasse! Wir freuen uns über jede Teilnahme.
URL:https://agenda21-ottobrunn-neubiberg.de/event/stammtisch-energie-klima/
LOCATION:Bistro Quo Vadis\, Naupliaallee 22\, Ottobrunn\, 85521\, Germany
CATEGORIES:Agenda21,Stammtisch,Stammtisch Energie & Klima
ATTACH;FMTTYPE=image/png:https://agenda21-ottobrunn-neubiberg.de/app/uploads/2026/02/2.png
END:VEVENT
BEGIN:VEVENT
DTSTART;TZID=Europe/Berlin:20260425T100000
DTEND;TZID=Europe/Berlin:20260425T120000
DTSTAMP:20260420T043759
CREATED:20260306T134700Z
LAST-MODIFIED:20260316T075918Z
UID:106-1777111200-1777118400@agenda21-ottobrunn-neubiberg.de
SUMMARY:Pflanzentauschmarkt auf dem Rathausplatz Ottobrunn
DESCRIPTION:Am Samstag\, 25.04.2026 findet auf dem Rathausplatz Ottobrunn wieder der jährliche Pflanzentauschmarkt des Arbeitskreises Natur & Landschaft statt. Schauen Sie vorbei\, tauschen Sie ihre Pflanzen und kommen Sie gemeinsam ins Gespräch!
URL:https://agenda21-ottobrunn-neubiberg.de/event/pflanzentauschmarkt-auf-dem-rathausplatz-ottobrunn/
LOCATION:Rathausplatz Ottobrunn\, Rathausplatz 1\, Ottobrunn\, 85521\, Germany
CATEGORIES:Agenda21,Markt
ATTACH;FMTTYPE=image/png:https://agenda21-ottobrunn-neubiberg.de/app/uploads/2026/03/3.png
END:VEVENT
BEGIN:VEVENT
DTSTART;TZID=Europe/Berlin:20260504T100000
DTEND;TZID=Europe/Berlin:20260504T110000
DTSTAMP:20260420T043759
CREATED:20260315T144936Z
LAST-MODIFIED:20260316T075734Z
UID:117-1777888800-1777892400@agenda21-ottobrunn-neubiberg.de
SUMMARY:Vortrag Gesundheitsschutz bei Hitze
DESCRIPTION:Wie beeinträchtigt Hitze uns und was macht sie so gefährlich? Welche Maßnahmen (z.B. räumliche/zeitliche Struktur) können individuell zum persönlichen Schutz ergriffen werden? Bei welchen Medikamenten ist die Beratung und ggf. die Therapieanpassung durch den Hausarzt sinnvoll? Frau Dr.  Susanne Schulze freut sich über Ihr Interesse und Ihre Teilnahme. \nKostenfrei. Anmeldung erforderlich beim Haus der Senioren. Anmeldenr.: 26-2V60502. \nTermin: Mo. 04.05.2026 um 10:00 Uhr im HdS\, Gartenzimmer – EG \nVeranstaltungsort: Haus der Senioren\, Mozartstraße 68\, 85521 Ottobrunn | Telefon: 089/60 85 72 89 | E-Mail: hds@ottobrunn.de | Öffnungszeiten: Montag – Freitag 08:00 – 12.00 Uhr
URL:https://agenda21-ottobrunn-neubiberg.de/event/vortrag-gesundheitsschutz-bei-hitze/
LOCATION:Haus der Senioren\, Mozartstraße 68\, Ottobrunn\, 85521\, Germany
CATEGORIES:Vortrag
ATTACH;FMTTYPE=image/png:https://agenda21-ottobrunn-neubiberg.de/app/uploads/2026/03/5.png
END:VEVENT
BEGIN:VEVENT
DTSTART;TZID=Europe/Berlin:20260520T183000
DTEND;TZID=Europe/Berlin:20260520T210000
DTSTAMP:20260420T043759
CREATED:20260315T151524Z
LAST-MODIFIED:20260315T151923Z
UID:127-1779301800-1779310800@agenda21-ottobrunn-neubiberg.de
SUMMARY:Mai-Stammtisch Energie & Klima
DESCRIPTION:Am Mittwoch\, den 20.05.2026 findet ab 18.30 Uhr ein weiterer Energie-Stammtisch statt. Treffpunkt ist im Bistro Quo Vadis\, Ortsmitte von Ottobrunn. \nWir tauschen uns aus zu Themen wie: Wärmewende zu Hause gestalten\, Nutzung von Sonnenenergie\, Energieeffizientes Wohnen\, Elektromobilität\, Förderprogramme in der Gemeinde\, Infos zum Stand der kommunalen Wärmeplanung u.v.m. Sie haben Fragen\, suchen Hilfe oder möchten Ihre Erfahrungen teilen und anderen Nachbarn helfen? Klasse! Wir freuen uns über jede Teilnahme.
URL:https://agenda21-ottobrunn-neubiberg.de/event/127/
LOCATION:Bistro Quo Vadis\, Naupliaallee 22\, Ottobrunn\, 85521\, Germany
CATEGORIES:Agenda21,Stammtisch,Stammtisch Energie & Klima
ATTACH;FMTTYPE=image/png:https://agenda21-ottobrunn-neubiberg.de/app/uploads/2026/02/2.png
END:VEVENT
BEGIN:VEVENT
DTSTART;TZID=Europe/Berlin:20260608T100000
DTEND;TZID=Europe/Berlin:20260608T113000
DTSTAMP:20260420T043759
CREATED:20260315T145959Z
LAST-MODIFIED:20260325T162444Z
UID:120-1780912800-1780918200@agenda21-ottobrunn-neubiberg.de
SUMMARY:Vortrag Stark bei Hitze: Gesundheit schützen\, Risiken vermeiden
DESCRIPTION:Wie beeinträchtigt Hitze unseren Körper und ab wann wird sie gefährlich? Der Vortrag zeigt\, welche individuellen Schutzmaßnahmen\, etwa durch eine angepasste Tages- und Raumgestaltung\, wirksam sind. Zudem erfahren Sie\, bei welchen Medikamenten eine ärztliche Beratung und eine mögliche Anpassung der Therapie nötig sein kann. \nReferentin: Dr. Susanne Schulze \nOrganisation: vhs Süd-Ost \n\n\n\n\n\nGebührenfrei | Kursnummer: 261-35160 | Plätze: min. 8 / max. 15\nOrt: Otb\, Wolf-Ferrari-Haus\, UG 131\nKontakt:\n\n\n\n\n\nFragen zur Buchung: Angela Johannsen 089/442389161 johannsen@vhs-suedost.de\nFachliche Beratung: Stephanie Derenbach 089/442389159 derenbach@vhs-suedost.de
URL:https://agenda21-ottobrunn-neubiberg.de/event/stark-bei-hitze-gesundheit-schuetzen-risiken-vermeiden/
LOCATION:Wolf-Ferrari-Haus\, Rathausplatz 2\, Ottobrunn\, 85521\, Germany
CATEGORIES:Vortrag
ATTACH;FMTTYPE=image/png:https://agenda21-ottobrunn-neubiberg.de/app/uploads/2026/03/5.png
END:VEVENT
BEGIN:VEVENT
DTSTART;TZID=Europe/Berlin:20260610T190000
DTEND;TZID=Europe/Berlin:20260610T203000
DTSTAMP:20260420T043759
CREATED:20260315T150726Z
LAST-MODIFIED:20260316T075232Z
UID:122-1781118000-1781123400@agenda21-ottobrunn-neubiberg.de
SUMMARY:Vortrag Stark bei Hitze: Gesundheit schützen\, Risiken vermeiden
DESCRIPTION:Wie beeinträchtigt Hitze unseren Körper und ab wann wird sie gefährlich? Der Vortrag zeigt\, welche individuellen Schutzmaßnahmen\, etwa durch eine angepasste Tages- und Raumgestaltung\, wirksam sind. Zudem erfahren Sie\, bei welchen Medikamenten eine ärztliche Beratung und eine mögliche Anpassung der Therapie nötig sein kann. \nReferentin: Dr. Susanne Schulze \n\n\n\n\n\nOrganisation: vhs Süd-Ost\nGebührenfrei | Kursnummer: 261-35162 | Plätze: min. 8 / max. 15\nOrt: Otb\, Wolf-Ferrari-Haus\, UG 140\nKontakt:\n\n\n\n\n\nFragen zur Buchung: Angela Johannsen 089/442389161 johannsen@vhs-suedost.de\nFachliche Beratung: Stephanie Derenbach 089/442389159 derenbach@vhs-suedost.de
URL:https://agenda21-ottobrunn-neubiberg.de/event/stark-bei-hitze-gesundheit-schuetzen-risiken-vermeiden-2/
LOCATION:Wolf-Ferrari-Haus\, Rathausplatz 2\, Ottobrunn\, 85521\, Germany
CATEGORIES:Vortrag
ATTACH;FMTTYPE=image/png:https://agenda21-ottobrunn-neubiberg.de/app/uploads/2026/03/5.png
END:VEVENT
BEGIN:VEVENT
DTSTART;TZID=Europe/Berlin:20260614T110000
DTEND;TZID=Europe/Berlin:20260614T180000
DTSTAMP:20260420T043759
CREATED:20260419T152823Z
LAST-MODIFIED:20260419T153417Z
UID:542-1781434800-1781460000@agenda21-ottobrunn-neubiberg.de
SUMMARY:Moor-Mitmachtag mit Spatenstich
DESCRIPTION:So.\, 14.06.2026 \, 11:00 -18:00 Uhr\, Aßling\, Landkreis Ebersberg \nKommen Sie mit auf eine Expedition ins Brucker Moos und erleben Sie Moorschutz in der Praxis beim gemeinsamen „Buddeln“\, an Infoständen und bei der Podiumsdiskussion. \n\nGemeinsam anpacken und ein Stück Natur wiedergewinnen: Bevor sich eine ehemalige Moorfläche wieder frei entfalten kann\, muss der Wasserhaushalt wiederhergestellt werden. Die Aktion Zukunft+\, CO2-regio und der Deutsche Alpenverein laden deshalb gemeinsam zum Moor-Mitmachtag im Südosten des Brucker Mooses (bei Aßling\, Landkreis Ebersberg) ein. Am Sonntag\, 14. Juni 2026 können dort freiwillige Helferinnen und Helfer direkt vor Ort mit anpacken – und unter Anleitung von Fachleuten gemeinsam eine sogenannte Versickerungsmulde ausheben. Sie dient dazu\, Wasser abzufangen\, das bislang noch in den Entwässerungsgraben fließt\, und es gezielt in die Fläche zu leiten. Dort kann es versickern und zur Wiedervernässung des Moores beitragen. \nMoore übernehmen als natürliche CO2-Senken eine wichtige Funktion\, denn sie entziehen der Atmosphäre das Treibhausgas. Zur Gewinnung landwirtschaftlicher Flächen wurden sie früher oft trockengelegt. Heutige landwirtschaftliche Methoden ermöglichen es\, die Moorflächen weiterhin moorschonend zu nutzen und zugleich ihre Klimaleistung wiederherzustellen. Damit das möglich ist\, braucht es Hilfe – und genau da unterstützen die Aktion Zukunft+\, CO2-regio und der Deutsche Alpenverein mit gesammelten Spenden und Klimabeiträgen sowie dem tatkräftigen Einsatz vor Ort. \nProgramm des Moor-Mitmachtags\n\nZu der ganztägigen Mitmachaktion sind alle aus der Region herzlich eingeladen – Vertreterinnen und Vertreter aus der Politik ebenso wie von Unternehmen\, Vereine und ihren Mitgliedern und natürlich alle Menschen\, die sich – gerne auch zusammen mit ihren Kindern – für den Klimaschutz vor ihrer Haustür engagieren möchten. Das Mitbringen von festem Schuhwerk und Arbeitshandschuhen wird empfohlen. Einige Spaten werden vor Ort bereitgestellt\, wer allerdings auf Nummer sicher gehen will\, bringt eine eigene Schaufel mit. Das Mitbringen von Schaufeln für Kinder wird empfohlen.\n\nDas Rahmenprogramm des Mitmachtags gibt vielfältige und praktische Einblicke in den Moorschutz und die Projektarbeit. Geplant sind eine geführte Moor-Expedition\, diverse Infostände sowie eine Podiumsdiskussion mit Vertreterinnen und Vertretern aus Wissenschaft\, Landwirtschaft und Projektbeteiligten. Der Eintritt ist frei. Bitte beachten Sie\, dass das Mitführen von Hunden im Landschaftsschutzgebiet aufgrund der geltenden Vorschriften nicht erlaubt ist.\nAnfahrt & OrganisatorischesFür eine reibungslose Anfahrt steuern Sie bitte zuerst die Adresse Hainza 1\, 85617 Aßling (Parkplatz) an und folgen Sie dann der Ausschilderung bzw. den Koordinaten: WGS84: 47.99615\, 11.93767. Der Fußweg vom Parkplatz beträgt 12 Minuten. \nAufgrund der begrenzten Verfügbarkeit von Parkplätzen bitten wir um die Abstimmung von Fahrgemeinschaften oder die Anreise mit dem Rad oder mit den öffentlichen Verkehrsmitteln. Bitte beachten Sie\, dass das Mitführen von Hunden im Landschaftsschutzgebiet aufgrund der geltenden Vorschriften nicht erlaubt ist. \n\n\nZur Erleichterung der Organisation ist eine Anmeldung gewünscht. Diese finden Sie unter diesem Link: Moor-Mitmachtag mit Spatenstich | Energieagentur Ebersberg – München
URL:https://agenda21-ottobrunn-neubiberg.de/event/moor-mitmachtag-mit-spatenstich/
CATEGORIES:Empfehlung externe Veranstaltung
ATTACH;FMTTYPE=image/jpeg:https://agenda21-ottobrunn-neubiberg.de/app/uploads/2026/04/2026_02_17_Moor_Auftaktveranst_Visual.jpg
END:VEVENT
BEGIN:VEVENT
DTSTART;TZID=Europe/Berlin:20260617T193000
DTEND;TZID=Europe/Berlin:20260617T210000
DTSTAMP:20260420T043759
CREATED:20260315T151716Z
LAST-MODIFIED:20260316T075120Z
UID:130-1781724600-1781730000@agenda21-ottobrunn-neubiberg.de
SUMMARY:Juni-Stammtisch Energie & Klima
DESCRIPTION:Am Mittwoch\, den 17.06.2026 findet ab 18.30 Uhr ein weiterer Energie-Stammtisch statt. Treffpunkt ist im Bistro Quo Vadis\, Ortsmitte von Ottobrunn. \nWir tauschen uns aus zu Themen wie: Wärmewende zu Hause gestalten\, Nutzung von Sonnenenergie\, Energieeffizientes Wohnen\, Elektromobilität\, Förderprogramme in der Gemeinde\, Infos zum Stand der kommunalen Wärmeplanung u.v.m. Sie haben Fragen\, suchen Hilfe oder möchten Ihre Erfahrungen teilen und anderen Nachbarn helfen? Klasse! Wir freuen uns über jede Teilnahme.
URL:https://agenda21-ottobrunn-neubiberg.de/event/130/
LOCATION:Bistro Quo Vadis\, Naupliaallee 22\, Ottobrunn\, 85521\, Germany
CATEGORIES:Agenda21,Stammtisch,Stammtisch Energie & Klima
ATTACH;FMTTYPE=image/png:https://agenda21-ottobrunn-neubiberg.de/app/uploads/2026/02/2.png
END:VEVENT
BEGIN:VEVENT
DTSTART;TZID=Europe/Berlin:20260626T183000
DTEND;TZID=Europe/Berlin:20260626T220000
DTSTAMP:20260420T043759
CREATED:20260315T155100Z
LAST-MODIFIED:20260316T075058Z
UID:138-1782498600-1782511200@agenda21-ottobrunn-neubiberg.de
SUMMARY:Agenda21 - Grillfest - Promenadegarten Neubiberg
DESCRIPTION:26. Juni 2026 um 18.30 Uhr\nAgenda21 – Grillfest – Promenadegarten Neubiberg
URL:https://agenda21-ottobrunn-neubiberg.de/event/agenda21-grillfest-promenadegarten-neubiberg/
CATEGORIES:Agenda21,Feste
ATTACH;FMTTYPE=image/png:https://agenda21-ottobrunn-neubiberg.de/app/uploads/2026/03/Grillfest-Agenda21.png
END:VEVENT
BEGIN:VEVENT
DTSTART;TZID=Europe/Berlin:20260715T000000
DTEND;TZID=Europe/Berlin:20260715T235959
DTSTAMP:20260420T043759
CREATED:20260315T152538Z
LAST-MODIFIED:20260316T074957Z
UID:135-1784073600-1784159999@agenda21-ottobrunn-neubiberg.de
SUMMARY:Ausflug in den Lebensgarten und zu den Projekten in Hohenbrunn von Sabine Klee
DESCRIPTION:15. Juli 2026 (Ort und Zeit werden noch rechtzeitig bekanntgegeben)\nAusflug in den Lebensgarten und zu den Projekten in Hohenbrunn von Sabine Klee
URL:https://agenda21-ottobrunn-neubiberg.de/event/ausflug-in-den-lebensgarten-und-zu-den-projekten-in-hohenbrunn-von-sabine-klee/
CATEGORIES:Agenda21,Ausflug
ATTACH;FMTTYPE=image/png:https://agenda21-ottobrunn-neubiberg.de/app/uploads/2026/03/Ausflug-in-den-Lebensgarten.png
END:VEVENT
BEGIN:VEVENT
DTSTART;TZID=Europe/Berlin:20260720T190000
DTEND;TZID=Europe/Berlin:20260720T203000
DTSTAMP:20260420T043759
CREATED:20260419T151557Z
LAST-MODIFIED:20260419T151557Z
UID:530-1784574000-1784579400@agenda21-ottobrunn-neubiberg.de
SUMMARY:Windenergie in unserer Region: Fakten statt Mythen
DESCRIPTION:Datum: Mo.\, 20.07.2026\, 19:00 Uhr\, Online-Veranstaltung \nVeranstalter: Energieagentur Ebersberg-München gGmbH in Kooperation mit Katholisches Kreisbildungswerk Ebersberg e.V. \nMontags-ImpulsE: Informieren Sie sich über geplante und über bereits umgesetzte Windenergieprojekte in den Landkreisen Ebersberg und München. \nUnsere Fachgespräche Energiewende heißen jetzt Montags-ImpulsE und finden einmal pro Quartal statt! Im dritten Quartal 2026 laden wir Sie ein\, sich zum Thema „Windenergie in unserer Region“ zu informieren. Diese Veranstaltung findet im Rahmen der Bayerischen Energietage 2026 statt.\n\nWindenergie in unserer Region: Fakten statt Mythen\n\nWas bedeutet Windenergie heute? Wie groß ist ihre Bedeutung für die Region\, wie sehen moderne Windenergieprojekte aus?\nWie lässt sich Windenergie sinnvoll nutzen? Lernen Sie – jenseits von Gerüchten und Halbwahrheiten – die wissenschaftlichen Fakten kennen.\nWas ist in der Region (Landkreis Ebersberg\, Landkreis München) los? Welche Windenergieprojekte sind geplant\, welche bereits umgesetzt? Wie funktioniert die Vorranggebietsplanung?\n\nAls Referentin ist Lisa Niedermaier\, Leiterin des Teams Beratung Windenergie und der Servicestelle Windenergie bei der Energieagentur Ebersberg-München\, im Studio zu Gast.\nDie Teilnahme ist kostenfrei. Sie können sich hier zu der Online-Veranstaltung anmelden (Link):\nhttps://join.next.edudip.com/de/webinar/windenergie-in-unserer-region-fakten-statt-mythen/2608173 \nNach der Anmeldung erhalten Sie eine E-Mail mit den Zugangsdaten zum Online-Seminar. Voraussetzung für eine erfolgreiche Teilnahme ist ein PC oder Laptop mit Lautsprecher sowie eine stabile Internetverbindung. Verwenden Sie am besten den Internet-Browser Firefox oder Google Chrome. Über einen Live-Chat können Sie schriftlich Ihre Fragen stellen. \n 
URL:https://agenda21-ottobrunn-neubiberg.de/event/windenergie-in-unserer-region-fakten-statt-mythen/
CATEGORIES:Empfehlung externe Veranstaltung
END:VEVENT
BEGIN:VEVENT
DTSTART;TZID=Europe/Berlin:20260722T183000
DTEND;TZID=Europe/Berlin:20260722T210000
DTSTAMP:20260420T043759
CREATED:20260315T152040Z
LAST-MODIFIED:20260315T153635Z
UID:133-1784745000-1784754000@agenda21-ottobrunn-neubiberg.de
SUMMARY:Juli-Stammtisch Energie & Klima
DESCRIPTION:Am Mittwoch\, den 22.07.2026 findet ab 18.30 Uhr ein weiterer Energie-Stammtisch statt. Treffpunkt ist im Bistro Quo Vadis\, Ortsmitte von Ottobrunn. \nWir tauschen uns aus zu Themen wie: Wärmewende zu Hause gestalten\, Nutzung von Sonnenenergie\, Energieeffizientes Wohnen\, Elektromobilität\, Förderprogramme in der Gemeinde\, Infos zum Stand der kommunalen Wärmeplanung u.v.m. Sie haben Fragen\, suchen Hilfe oder möchten Ihre Erfahrungen teilen und anderen Nachbarn helfen? Klasse! Wir freuen uns über jede Teilnahme.
URL:https://agenda21-ottobrunn-neubiberg.de/event/juli-stammtisch-energie-klima/
LOCATION:Bistro Quo Vadis\, Naupliaallee 22\, Ottobrunn\, 85521\, Germany
CATEGORIES:Agenda21,Stammtisch,Stammtisch Energie & Klima
ATTACH;FMTTYPE=image/png:https://agenda21-ottobrunn-neubiberg.de/app/uploads/2026/02/2.png
END:VEVENT
BEGIN:VEVENT
DTSTART;TZID=Europe/Berlin:20261108T103000
DTEND;TZID=Europe/Berlin:20261108T123000
DTSTAMP:20260420T043759
CREATED:20260315T155955Z
LAST-MODIFIED:20260316T074821Z
UID:149-1794133800-1794141000@agenda21-ottobrunn-neubiberg.de
SUMMARY:Filmvorführung im Ottobrunner Kino
DESCRIPTION:8. November 2026 um 10.30 Uhr\nFilmvorführung im Ottobrunner Kino / Dokumentarfilm\nIn Zusammenarbeit mit der VHS-SüdOst
URL:https://agenda21-ottobrunn-neubiberg.de/event/filmvorfuehrung-im-ottobrunner-kino/
LOCATION:Ottobrunner Kinos\, Ottostraße 72\, Ottobrunn\, 85521\, Germany
CATEGORIES:Agenda21,Kino
ATTACH;FMTTYPE=image/png:https://agenda21-ottobrunn-neubiberg.de/app/uploads/2026/03/Kino-Filmvorfuehrung-Ottobrunn.png
END:VEVENT
BEGIN:VEVENT
DTSTART;TZID=Europe/Berlin:20261111T190000
DTEND;TZID=Europe/Berlin:20261111T203000
DTSTAMP:20260420T043759
CREATED:20260322T150538Z
LAST-MODIFIED:20260402T154642Z
UID:249-1794423600-1794429000@agenda21-ottobrunn-neubiberg.de
SUMMARY:Was bedeutet Sicherheit im 21. Jahrhundert? Was heißt das für uns in Ottobrunn & Neubiberg?
DESCRIPTION:Der Angriffskrieg Russlands gegen die Ukraine als auch der andauernde Konflikt zwischen Iran und Israel\, hat uns schmerzhaft vor Augen geführt\, wie eng Energiepolitik und Sicherheitspolitik miteinander verwoben sind. Energie ist längst nicht mehr nur eine Frage von Versorgung und Preisen – sie ist ein geopolitischer Machtfaktor. \nDer Arbeitskreis Energie & Klima der Agenda 21 Ottobrunn-Neubiberg lädt deshalb am 11. November 2026 zu einem Abend ein\, an dem wir diese Zusammenhänge genauer beleuchten. \nPD Dr. Frank Sauer\, Politikwissenschaftler\, Publizist und einer der bedeutendsten Experten für Sicherheits- und Verteidigungspolitik in Deutschland\, forscht an der Universität der Bunderwehr in München zu internationalen Beziehungen\, Technologie und Sicherheit. Er ist Mitautor der Studie „NIKE – Nationale Interdisziplinäre Klimarisiko Einschätzung“ und beschäftigt sich intensiv mit den sicherheitspolitischen Folgen der globalen Energie- und Klimakrise. \nIn seinem Vortrag zeigt PD Dr. Frank Sauer\, wie geopolitische Risiken\, technologische Entwicklungen und Energiepolitik zusammenhängen und geht darauf ein\, welche Bedeutung dies für Europa\, Deutschland und auch für Kommunen wie Ottobrunn und Neubiberg hat. Im Anschluss gibt es Raum für Fragen und Diskussion. \nDatum: am 11. November 2026 um 19:00 Uhr (Einlass ab 18:45 Uhr) \nOrt: im Ratssaal des Wolf-Ferrari-Hauses in Ottobrunn \nReferent: PD Dr. Frank Sauer\, Politikwissenschaftler und Publizist\, Experte für Sicherheit und Verteidigungspolitik\, Universität der Bundeswehr in München \nOrganisatoren: Agenda 21 Ottobrunn-Neubiberg\, AK Energie & Klima \nAnmeldung: Um Anmeldung per E-Mail an agenda21ottobrunn-energie@posteo.de wird gebeten.
URL:https://agenda21-ottobrunn-neubiberg.de/event/sicherheits-und-energiepolitik-im-21-jahrhundert-was-bedeutet-das-fuer-uns-in-ottobrunn-neubiberg/
LOCATION:Wolf-Ferrari-Haus\, Rathausplatz 2\, Ottobrunn\, 85521\, Germany
CATEGORIES:Vortrag
ATTACH;FMTTYPE=image/png:https://agenda21-ottobrunn-neubiberg.de/app/uploads/2026/03/Veranstaltungen-Agenda21-Website-1.png
END:VEVENT
END:VCALENDAR