BEGIN:VCALENDAR
VERSION:2.0
PRODID:-//Agenda 21 Ottobrunn-Neubiberg - ECPv6.15.20//NONSGML v1.0//EN
CALSCALE:GREGORIAN
METHOD:PUBLISH
X-WR-CALNAME:Agenda 21 Ottobrunn-Neubiberg
X-ORIGINAL-URL:https://agenda21-ottobrunn-neubiberg.de
X-WR-CALDESC:Veranstaltungen für Agenda 21 Ottobrunn-Neubiberg
REFRESH-INTERVAL;VALUE=DURATION:PT1H
X-Robots-Tag:noindex
X-PUBLISHED-TTL:PT1H
BEGIN:VTIMEZONE
TZID:Europe/Berlin
BEGIN:DAYLIGHT
TZOFFSETFROM:+0100
TZOFFSETTO:+0200
TZNAME:CEST
DTSTART:20250330T010000
END:DAYLIGHT
BEGIN:STANDARD
TZOFFSETFROM:+0200
TZOFFSETTO:+0100
TZNAME:CET
DTSTART:20251026T010000
END:STANDARD
BEGIN:DAYLIGHT
TZOFFSETFROM:+0100
TZOFFSETTO:+0200
TZNAME:CEST
DTSTART:20260329T010000
END:DAYLIGHT
BEGIN:STANDARD
TZOFFSETFROM:+0200
TZOFFSETTO:+0100
TZNAME:CET
DTSTART:20261025T010000
END:STANDARD
BEGIN:DAYLIGHT
TZOFFSETFROM:+0100
TZOFFSETTO:+0200
TZNAME:CEST
DTSTART:20270328T010000
END:DAYLIGHT
BEGIN:STANDARD
TZOFFSETFROM:+0200
TZOFFSETTO:+0100
TZNAME:CET
DTSTART:20271031T010000
END:STANDARD
END:VTIMEZONE
BEGIN:VEVENT
DTSTART;TZID=Europe/Berlin:20260614T110000
DTEND;TZID=Europe/Berlin:20260614T180000
DTSTAMP:20260420T095327
CREATED:20260419T152823Z
LAST-MODIFIED:20260419T153417Z
UID:542-1781434800-1781460000@agenda21-ottobrunn-neubiberg.de
SUMMARY:Moor-Mitmachtag mit Spatenstich
DESCRIPTION:So.\, 14.06.2026 \, 11:00 -18:00 Uhr\, Aßling\, Landkreis Ebersberg \nKommen Sie mit auf eine Expedition ins Brucker Moos und erleben Sie Moorschutz in der Praxis beim gemeinsamen „Buddeln“\, an Infoständen und bei der Podiumsdiskussion. \n\nGemeinsam anpacken und ein Stück Natur wiedergewinnen: Bevor sich eine ehemalige Moorfläche wieder frei entfalten kann\, muss der Wasserhaushalt wiederhergestellt werden. Die Aktion Zukunft+\, CO2-regio und der Deutsche Alpenverein laden deshalb gemeinsam zum Moor-Mitmachtag im Südosten des Brucker Mooses (bei Aßling\, Landkreis Ebersberg) ein. Am Sonntag\, 14. Juni 2026 können dort freiwillige Helferinnen und Helfer direkt vor Ort mit anpacken – und unter Anleitung von Fachleuten gemeinsam eine sogenannte Versickerungsmulde ausheben. Sie dient dazu\, Wasser abzufangen\, das bislang noch in den Entwässerungsgraben fließt\, und es gezielt in die Fläche zu leiten. Dort kann es versickern und zur Wiedervernässung des Moores beitragen. \nMoore übernehmen als natürliche CO2-Senken eine wichtige Funktion\, denn sie entziehen der Atmosphäre das Treibhausgas. Zur Gewinnung landwirtschaftlicher Flächen wurden sie früher oft trockengelegt. Heutige landwirtschaftliche Methoden ermöglichen es\, die Moorflächen weiterhin moorschonend zu nutzen und zugleich ihre Klimaleistung wiederherzustellen. Damit das möglich ist\, braucht es Hilfe – und genau da unterstützen die Aktion Zukunft+\, CO2-regio und der Deutsche Alpenverein mit gesammelten Spenden und Klimabeiträgen sowie dem tatkräftigen Einsatz vor Ort. \nProgramm des Moor-Mitmachtags\n\nZu der ganztägigen Mitmachaktion sind alle aus der Region herzlich eingeladen – Vertreterinnen und Vertreter aus der Politik ebenso wie von Unternehmen\, Vereine und ihren Mitgliedern und natürlich alle Menschen\, die sich – gerne auch zusammen mit ihren Kindern – für den Klimaschutz vor ihrer Haustür engagieren möchten. Das Mitbringen von festem Schuhwerk und Arbeitshandschuhen wird empfohlen. Einige Spaten werden vor Ort bereitgestellt\, wer allerdings auf Nummer sicher gehen will\, bringt eine eigene Schaufel mit. Das Mitbringen von Schaufeln für Kinder wird empfohlen.\n\nDas Rahmenprogramm des Mitmachtags gibt vielfältige und praktische Einblicke in den Moorschutz und die Projektarbeit. Geplant sind eine geführte Moor-Expedition\, diverse Infostände sowie eine Podiumsdiskussion mit Vertreterinnen und Vertretern aus Wissenschaft\, Landwirtschaft und Projektbeteiligten. Der Eintritt ist frei. Bitte beachten Sie\, dass das Mitführen von Hunden im Landschaftsschutzgebiet aufgrund der geltenden Vorschriften nicht erlaubt ist.\nAnfahrt & OrganisatorischesFür eine reibungslose Anfahrt steuern Sie bitte zuerst die Adresse Hainza 1\, 85617 Aßling (Parkplatz) an und folgen Sie dann der Ausschilderung bzw. den Koordinaten: WGS84: 47.99615\, 11.93767. Der Fußweg vom Parkplatz beträgt 12 Minuten. \nAufgrund der begrenzten Verfügbarkeit von Parkplätzen bitten wir um die Abstimmung von Fahrgemeinschaften oder die Anreise mit dem Rad oder mit den öffentlichen Verkehrsmitteln. Bitte beachten Sie\, dass das Mitführen von Hunden im Landschaftsschutzgebiet aufgrund der geltenden Vorschriften nicht erlaubt ist. \n\n\nZur Erleichterung der Organisation ist eine Anmeldung gewünscht. Diese finden Sie unter diesem Link: Moor-Mitmachtag mit Spatenstich | Energieagentur Ebersberg – München
URL:https://agenda21-ottobrunn-neubiberg.de/event/moor-mitmachtag-mit-spatenstich/
CATEGORIES:Empfehlung externe Veranstaltung
ATTACH;FMTTYPE=image/jpeg:https://agenda21-ottobrunn-neubiberg.de/app/uploads/2026/04/2026_02_17_Moor_Auftaktveranst_Visual.jpg
END:VEVENT
END:VCALENDAR