BEGIN:VCALENDAR
VERSION:2.0
PRODID:-//Agenda 21 Ottobrunn-Neubiberg - ECPv6.15.20//NONSGML v1.0//EN
CALSCALE:GREGORIAN
METHOD:PUBLISH
X-WR-CALNAME:Agenda 21 Ottobrunn-Neubiberg
X-ORIGINAL-URL:https://agenda21-ottobrunn-neubiberg.de
X-WR-CALDESC:Veranstaltungen für Agenda 21 Ottobrunn-Neubiberg
REFRESH-INTERVAL;VALUE=DURATION:PT1H
X-Robots-Tag:noindex
X-PUBLISHED-TTL:PT1H
BEGIN:VTIMEZONE
TZID:Europe/Berlin
BEGIN:DAYLIGHT
TZOFFSETFROM:+0100
TZOFFSETTO:+0200
TZNAME:CEST
DTSTART:20250330T010000
END:DAYLIGHT
BEGIN:STANDARD
TZOFFSETFROM:+0200
TZOFFSETTO:+0100
TZNAME:CET
DTSTART:20251026T010000
END:STANDARD
BEGIN:DAYLIGHT
TZOFFSETFROM:+0100
TZOFFSETTO:+0200
TZNAME:CEST
DTSTART:20260329T010000
END:DAYLIGHT
BEGIN:STANDARD
TZOFFSETFROM:+0200
TZOFFSETTO:+0100
TZNAME:CET
DTSTART:20261025T010000
END:STANDARD
BEGIN:DAYLIGHT
TZOFFSETFROM:+0100
TZOFFSETTO:+0200
TZNAME:CEST
DTSTART:20270328T010000
END:DAYLIGHT
BEGIN:STANDARD
TZOFFSETFROM:+0200
TZOFFSETTO:+0100
TZNAME:CET
DTSTART:20271031T010000
END:STANDARD
END:VTIMEZONE
BEGIN:VEVENT
DTSTART;TZID=Europe/Berlin:20260414T193000
DTEND;TZID=Europe/Berlin:20260414T210000
DTSTAMP:20260420T071438
CREATED:20260315T155409Z
LAST-MODIFIED:20260315T155409Z
UID:141-1776195000-1776200400@agenda21-ottobrunn-neubiberg.de
SUMMARY:AK-Treffen Natur & Landschaft
DESCRIPTION:14. April 2026 um 19.30 Uhr\nAK-Treffen im WFH\, Raum 235
URL:https://agenda21-ottobrunn-neubiberg.de/event/ak-treffen-natur-landschaft/
CATEGORIES:Arbeitstreffen
END:VEVENT
END:VCALENDAR